BEGIN:VCALENDAR
VERSION:2.0
PRODID:-//L’atelier du rire | Club de Yoga du rire à Bordeaux et en Gironde | Florence Goisset - ECPv6.15.13.1//NONSGML v1.0//EN
CALSCALE:GREGORIAN
METHOD:PUBLISH
X-WR-CALNAME:L’atelier du rire | Club de Yoga du rire à Bordeaux et en Gironde | Florence Goisset
X-ORIGINAL-URL:https://clubrireetbienetre33.com
X-WR-CALDESC:Évènements pour L’atelier du rire | Club de Yoga du rire à Bordeaux et en Gironde | Florence Goisset
REFRESH-INTERVAL;VALUE=DURATION:PT1H
X-Robots-Tag:noindex
X-PUBLISHED-TTL:PT1H
BEGIN:VTIMEZONE
TZID:Europe/Paris
BEGIN:DAYLIGHT
TZOFFSETFROM:+0100
TZOFFSETTO:+0200
TZNAME:CEST
DTSTART:20220327T010000
END:DAYLIGHT
BEGIN:STANDARD
TZOFFSETFROM:+0200
TZOFFSETTO:+0100
TZNAME:CET
DTSTART:20221030T010000
END:STANDARD
BEGIN:DAYLIGHT
TZOFFSETFROM:+0100
TZOFFSETTO:+0200
TZNAME:CEST
DTSTART:20230326T010000
END:DAYLIGHT
BEGIN:STANDARD
TZOFFSETFROM:+0200
TZOFFSETTO:+0100
TZNAME:CET
DTSTART:20231029T010000
END:STANDARD
BEGIN:DAYLIGHT
TZOFFSETFROM:+0100
TZOFFSETTO:+0200
TZNAME:CEST
DTSTART:20240331T010000
END:DAYLIGHT
BEGIN:STANDARD
TZOFFSETFROM:+0200
TZOFFSETTO:+0100
TZNAME:CET
DTSTART:20241027T010000
END:STANDARD
END:VTIMEZONE
BEGIN:VEVENT
DTSTART;TZID=Europe/Paris:20230207T190000
DTEND;TZID=Europe/Paris:20230207T203000
DTSTAMP:20260419T151029
CREATED:20221219T100229Z
LAST-MODIFIED:20221219T100229Z
UID:1856-1675796400-1675801800@clubrireetbienetre33.com
SUMMARY:Séance de Yoga du rire du 7 Février 2023
DESCRIPTION:Le yoga du rire est un programme d’exercices pour la santé et le bien être. C’est une combinaison d’exercice de rire avec des techniques de respiration. Le Yoga du rire est à la fois préventif et thérapeutique. Il libère des endorphines qui sont des hormones du bonheur. \n  \nInscription par HelloAsso : \nhttps://www.helloasso.com/associations/l-atelier-du-rire/evenements/atelier-du-rire-bordeaux-le-7-fevrier-2023
URL:https://clubrireetbienetre33.com/seance/seance-de-yoga-du-rire-du-7-fevrier-2023/
LOCATION:Espace Servandoni Bordeaux\, 41 Rue Servandoni\, Bordeaux\, 33000\, France
END:VEVENT
BEGIN:VEVENT
DTSTART;TZID=Europe/Paris:20230211T143000
DTEND;TZID=Europe/Paris:20230211T160000
DTSTAMP:20260419T151029
CREATED:20230110T155338Z
LAST-MODIFIED:20230110T155338Z
UID:1882-1676125800-1676131200@clubrireetbienetre33.com
SUMMARY:Rire\, conscience et chocolat
DESCRIPTION:RIRE\, CONSCIENCE ET CHOCOLAT (2H30) \nUne session de Yoga du rire suivie par une dégustation « pleinement consciente de chocolats. » \nLien pour s’inscrire : \nhttps://www.helloasso.com/associations/l-atelier-du-rire/evenements/rire-conscience-et-chocolat \n 
URL:https://clubrireetbienetre33.com/seance/rire-conscience-et-chocolat-2/
LOCATION:Espace Servandoni Bordeaux\, 41 Rue Servandoni\, Bordeaux\, 33000\, France
END:VEVENT
BEGIN:VEVENT
DTSTART;TZID=Europe/Paris:20230221T190000
DTEND;TZID=Europe/Paris:20230221T203000
DTSTAMP:20260419T151029
CREATED:20221219T100718Z
LAST-MODIFIED:20221219T100718Z
UID:1858-1677006000-1677011400@clubrireetbienetre33.com
SUMMARY:Séance de yoga du rire du 21 Février 2023
DESCRIPTION:Le Yoga du rire est un programme d’exercices pour la santé et le bien être. \nLe Yoga du rire est une combinaison d’exercices de rire avec des techniques de respiration de Yoga . Il détend les effets négatifs du stress et renforce votre système immunitaire. Si vous riez tous les jours \, vous ne tomberez pas  malade facilement. \nInscription par hello asso : \nhttps://www.helloasso.com/associations/l-atelier-du-rire/evenements/atelier-du-rire-bordeaux-le-21-fevrier-2023
URL:https://clubrireetbienetre33.com/seance/seance-de-yoga-du-rire-du-21-fevrier-2023/
LOCATION:Espace Servandoni Bordeaux\, 41 Rue Servandoni\, Bordeaux\, 33000\, France
END:VEVENT
END:VCALENDAR