BEGIN:VCALENDAR
VERSION:2.0
PRODID:-//L’atelier du rire | Club de Yoga du rire à Bordeaux et en Gironde | Florence Goisset - ECPv6.15.13.1//NONSGML v1.0//EN
CALSCALE:GREGORIAN
METHOD:PUBLISH
X-WR-CALNAME:L’atelier du rire | Club de Yoga du rire à Bordeaux et en Gironde | Florence Goisset
X-ORIGINAL-URL:https://clubrireetbienetre33.com
X-WR-CALDESC:Évènements pour L’atelier du rire | Club de Yoga du rire à Bordeaux et en Gironde | Florence Goisset
REFRESH-INTERVAL;VALUE=DURATION:PT1H
X-Robots-Tag:noindex
X-PUBLISHED-TTL:PT1H
BEGIN:VTIMEZONE
TZID:Europe/Paris
BEGIN:DAYLIGHT
TZOFFSETFROM:+0100
TZOFFSETTO:+0200
TZNAME:CEST
DTSTART:20210328T010000
END:DAYLIGHT
BEGIN:STANDARD
TZOFFSETFROM:+0200
TZOFFSETTO:+0100
TZNAME:CET
DTSTART:20211031T010000
END:STANDARD
BEGIN:DAYLIGHT
TZOFFSETFROM:+0100
TZOFFSETTO:+0200
TZNAME:CEST
DTSTART:20220327T010000
END:DAYLIGHT
BEGIN:STANDARD
TZOFFSETFROM:+0200
TZOFFSETTO:+0100
TZNAME:CET
DTSTART:20221030T010000
END:STANDARD
BEGIN:DAYLIGHT
TZOFFSETFROM:+0100
TZOFFSETTO:+0200
TZNAME:CEST
DTSTART:20230326T010000
END:DAYLIGHT
BEGIN:STANDARD
TZOFFSETFROM:+0200
TZOFFSETTO:+0100
TZNAME:CET
DTSTART:20231029T010000
END:STANDARD
END:VTIMEZONE
BEGIN:VEVENT
DTSTART;TZID=Europe/Paris:20220913T190000
DTEND;TZID=Europe/Paris:20220913T203000
DTSTAMP:20260420T000138
CREATED:20220725T114545Z
LAST-MODIFIED:20220901T150509Z
UID:1680-1663095600-1663101000@clubrireetbienetre33.com
SUMMARY:Séance de Yoga du rire - Bordeaux
DESCRIPTION:Le rire est bon pour le moral et la santé \n  \nLien pour vous inscrire : \nhttps://www.helloasso.com/associations/l-atelier-du-rire/evenements/seance-de-yoga-du-rire-bordeaux-1 \n  \nADHESION : 25\,00 Euros à l’année \nTarifs préférentiels : si adhésion \, la séance est à 11\,00 Euros
URL:https://clubrireetbienetre33.com/seance/seance-de-yoga-du-rire-septembre-2022/
LOCATION:Espace Servandoni Bordeaux\, 41 Rue Servandoni\, Bordeaux\, 33000\, France
END:VEVENT
BEGIN:VEVENT
DTSTART;TZID=Europe/Paris:20220927T190000
DTEND;TZID=Europe/Paris:20220927T203000
DTSTAMP:20260420T000138
CREATED:20220725T115100Z
LAST-MODIFIED:20220901T150650Z
UID:1682-1664305200-1664310600@clubrireetbienetre33.com
SUMMARY:Séance de Yoga du rire - Bordeaux
DESCRIPTION:Le rire est bon pour le moral et la santé \n  \nLien pour vous inscrire : \nhttps://www.helloasso.com/associations/l-atelier-du-rire/evenements/atelier-du-rire-bordeaux-le-27-septembre-2022 \nADHESION : 25\,00 Euros à l’année \nTarifs préférentiels : si adhésion \, la séance est à 11\,00 Euros \n 
URL:https://clubrireetbienetre33.com/seance/seance-de-yoga-du-rire-septembre-2022-2/
LOCATION:Espace Servandoni Bordeaux\, 41 Rue Servandoni\, Bordeaux\, 33000\, France
END:VEVENT
END:VCALENDAR