BEGIN:VCALENDAR
VERSION:2.0
PRODID:-//L’atelier du rire | Club de Yoga du rire à Bordeaux et en Gironde | Florence Goisset - ECPv6.15.13.1//NONSGML v1.0//EN
CALSCALE:GREGORIAN
METHOD:PUBLISH
X-ORIGINAL-URL:https://clubrireetbienetre33.com
X-WR-CALDESC:Évènements pour L’atelier du rire | Club de Yoga du rire à Bordeaux et en Gironde | Florence Goisset
REFRESH-INTERVAL;VALUE=DURATION:PT1H
X-Robots-Tag:noindex
X-PUBLISHED-TTL:PT1H
BEGIN:VTIMEZONE
TZID:Europe/Paris
BEGIN:DAYLIGHT
TZOFFSETFROM:+0100
TZOFFSETTO:+0200
TZNAME:CEST
DTSTART:20210328T010000
END:DAYLIGHT
BEGIN:STANDARD
TZOFFSETFROM:+0200
TZOFFSETTO:+0100
TZNAME:CET
DTSTART:20211031T010000
END:STANDARD
BEGIN:DAYLIGHT
TZOFFSETFROM:+0100
TZOFFSETTO:+0200
TZNAME:CEST
DTSTART:20220327T010000
END:DAYLIGHT
BEGIN:STANDARD
TZOFFSETFROM:+0200
TZOFFSETTO:+0100
TZNAME:CET
DTSTART:20221030T010000
END:STANDARD
BEGIN:DAYLIGHT
TZOFFSETFROM:+0100
TZOFFSETTO:+0200
TZNAME:CEST
DTSTART:20230326T010000
END:DAYLIGHT
BEGIN:STANDARD
TZOFFSETFROM:+0200
TZOFFSETTO:+0100
TZNAME:CET
DTSTART:20231029T010000
END:STANDARD
END:VTIMEZONE
BEGIN:VEVENT
DTSTART;TZID=Europe/Paris:20220614T190000
DTEND;TZID=Europe/Paris:20220614T203000
DTSTAMP:20260420T043103
CREATED:20211209T153915Z
LAST-MODIFIED:20220225T153044Z
UID:1513-1655233200-1655238600@clubrireetbienetre33.com
SUMMARY:SEANCE DE YOGA DU RIRE/BORDEAUX
DESCRIPTION:UN SOURIRE SINCÈRE EST UN PUISSANT FACTEUR D’AMITIE.🙏😊☀️ \nLIEN POUR VOUS INSCRIRE : \nhttps://www.helloasso.com/associations/l-atelier-du-rire/evenements/atelier-du-rire-bordeaux-le-14-juin-2022
URL:https://clubrireetbienetre33.com/seance/seance-de-yoga-du-rire-bordeaux-11/
LOCATION:Espace Servandoni Bordeaux\, 41 Rue Servandoni\, Bordeaux\, 33000\, France
END:VEVENT
BEGIN:VEVENT
DTSTART;TZID=Europe/Paris:20220616T190000
DTEND;TZID=Europe/Paris:20220616T203000
DTSTAMP:20260420T043103
CREATED:20211209T155811Z
LAST-MODIFIED:20220517T083240Z
UID:1527-1655406000-1655411400@clubrireetbienetre33.com
SUMMARY:SEANCE DE YOGA DU RIRE/FLOIRAC
DESCRIPTION:UNE FEMME QUI RIT\, C’EST LA PLUS BELLE MUSIQUE DU MONDE.🙏😊☀️ \n  \nle lien pour vous inscrire : \nhttps://www.helloasso.com/associations/l-atelier-du-rire/evenements/atelier-du-rire-de-floirac-33-le-16-juin-2022 \n  \n 
URL:https://clubrireetbienetre33.com/seance/seance-de-yoga-du-rire-floirac-2/
LOCATION:Chez Mme BONNET\, 8 RUE DES VERTS COTEAUX\, FLOIRAC\, 33270\, France
END:VEVENT
BEGIN:VEVENT
DTSTART;TZID=Europe/Paris:20220628T190000
DTEND;TZID=Europe/Paris:20220628T203000
DTSTAMP:20260420T043103
CREATED:20211209T154143Z
LAST-MODIFIED:20220225T152803Z
UID:1515-1656442800-1656448200@clubrireetbienetre33.com
SUMMARY:SEANCE DE YOGA DU RIRE/BORDEAUX
DESCRIPTION:POUR RAJEUNIR UN VISAGE\, IL Y A  UN TRAITEMENT A LA FOIS AISE ET EFFICACE : LE SOURIRE !!!🙏😊☀️ \nLIEN POUR VOUS INSCRIRE : \nhttps://www.helloasso.com/associations/l-atelier-du-rire/evenements/atelier-du-rire-bordeaux-le-28-juin-2022 \n 
URL:https://clubrireetbienetre33.com/seance/seance-de-yoga-du-rire-bordeaux-12/
LOCATION:Espace Servandoni Bordeaux\, 41 Rue Servandoni\, Bordeaux\, 33000\, France
END:VEVENT
END:VCALENDAR