BEGIN:VCALENDAR
VERSION:2.0
PRODID:-//L’atelier du rire | Club de Yoga du rire à Bordeaux et en Gironde | Florence Goisset - ECPv6.15.13.1//NONSGML v1.0//EN
CALSCALE:GREGORIAN
METHOD:PUBLISH
X-WR-CALNAME:L’atelier du rire | Club de Yoga du rire à Bordeaux et en Gironde | Florence Goisset
X-ORIGINAL-URL:https://clubrireetbienetre33.com
X-WR-CALDESC:Évènements pour L’atelier du rire | Club de Yoga du rire à Bordeaux et en Gironde | Florence Goisset
REFRESH-INTERVAL;VALUE=DURATION:PT1H
X-Robots-Tag:noindex
X-PUBLISHED-TTL:PT1H
BEGIN:VTIMEZONE
TZID:Europe/Paris
BEGIN:DAYLIGHT
TZOFFSETFROM:+0100
TZOFFSETTO:+0200
TZNAME:CEST
DTSTART:20190331T010000
END:DAYLIGHT
BEGIN:STANDARD
TZOFFSETFROM:+0200
TZOFFSETTO:+0100
TZNAME:CET
DTSTART:20191027T010000
END:STANDARD
BEGIN:DAYLIGHT
TZOFFSETFROM:+0100
TZOFFSETTO:+0200
TZNAME:CEST
DTSTART:20200329T010000
END:DAYLIGHT
BEGIN:STANDARD
TZOFFSETFROM:+0200
TZOFFSETTO:+0100
TZNAME:CET
DTSTART:20201025T010000
END:STANDARD
BEGIN:DAYLIGHT
TZOFFSETFROM:+0100
TZOFFSETTO:+0200
TZNAME:CEST
DTSTART:20210328T010000
END:DAYLIGHT
BEGIN:STANDARD
TZOFFSETFROM:+0200
TZOFFSETTO:+0100
TZNAME:CET
DTSTART:20211031T010000
END:STANDARD
END:VTIMEZONE
BEGIN:VEVENT
DTSTART;TZID=Europe/Paris:20200504T093000
DTEND;TZID=Europe/Paris:20200504T104500
DTSTAMP:20260423T194659
CREATED:20191228T135228Z
LAST-MODIFIED:20191228T135228Z
UID:943-1588584600-1588589100@clubrireetbienetre33.com
SUMMARY:Yoga du rire – Floirac
DESCRIPTION:LE YOGA DU RIRE OU RIRE SANS RAISON\nUne méthode innovante\, ludique et positive basée sur des exercices faciles de respiration et de rire qui apportent joie de vivre\, favorisent l’humour et diminuent les effets néfastes du stress. \nLes séances sont ouvertes à tous ! Venez nombreux ! \nLa durée des séances est d’1 heure 15\, et elles se déroulent à la Maison des Sports et Culture de Floirac. \nToutes les séances sont à 10.00 Euro.\nCotisation à l’année : 20.00 Euro \nPensez à prévoir une bouteille d’eau 😉
URL:https://clubrireetbienetre33.com/seance/yoga-du-rire-floirac-4-mai-2020/
LOCATION:Maison des Sports et Culture\, 4 avenue Camille Pelletan\, Floirac\, 33270\, France
CATEGORIES:Séance
END:VEVENT
BEGIN:VEVENT
DTSTART;TZID=Europe/Paris:20200507T191500
DTEND;TZID=Europe/Paris:20200507T203000
DTSTAMP:20260423T194659
CREATED:20191226T181128Z
LAST-MODIFIED:20191226T181128Z
UID:913-1588878900-1588883400@clubrireetbienetre33.com
SUMMARY:Yoga du rire – Bordeaux
DESCRIPTION:LE YOGA DU RIRE OU RIRE SANS RAISON\nUne méthode innovante\, ludique et positive basée sur des exercices faciles de respiration et de rire qui apportent joie de vivre\, favorisent l’humour et diminuent les effets néfastes du stress. \nLes séances sont ouvertes à tous ! Venez nombreux ! \nLa durée des séances est d’1 heure 15\, et elles se déroulent à l’Espace Servandoni à Bordeaux. \nToutes les séances sont à 10.00 Euro.\n10 Séances : 85.00 Euro\nCotisation à l’année : 20.00 Euro \nPensez à prévoir une bouteille d’eau 😉
URL:https://clubrireetbienetre33.com/seance/yoga-du-rire-bordeaux-7-mai-2020/
LOCATION:Espace Servandoni Bordeaux\, 41 Rue Servandoni\, Bordeaux\, 33000\, France
CATEGORIES:Séance
END:VEVENT
BEGIN:VEVENT
DTSTART;TZID=Europe/Paris:20200512T191500
DTEND;TZID=Europe/Paris:20200512T203000
DTSTAMP:20260423T194659
CREATED:20191226T180932Z
LAST-MODIFIED:20191226T182407Z
UID:911-1589310900-1589315400@clubrireetbienetre33.com
SUMMARY:Yoga du rire – Bordeaux
DESCRIPTION:LE YOGA DU RIRE OU RIRE SANS RAISON\nUne méthode innovante\, ludique et positive basée sur des exercices faciles de respiration et de rire qui apportent joie de vivre\, favorisent l’humour et diminuent les effets néfastes du stress. \nLes séances sont ouvertes à tous ! Venez nombreux ! \nLa durée des séances est d’1 heure 15\, et elles se déroulent à l’Espace Servandoni à Bordeaux. \nToutes les séances sont à 10.00 Euro.\n10 Séances : 85.00 Euro\nCotisation à l’année : 20.00 Euro \nPensez à prévoir une bouteille d’eau 😉
URL:https://clubrireetbienetre33.com/seance/yoga-du-rire-bordeaux-12-mai-2020/
LOCATION:Espace Servandoni Bordeaux\, 41 Rue Servandoni\, Bordeaux\, 33000\, France
CATEGORIES:Séance
END:VEVENT
BEGIN:VEVENT
DTSTART;TZID=Europe/Paris:20200518T093000
DTEND;TZID=Europe/Paris:20200518T104500
DTSTAMP:20260423T194659
CREATED:20191228T135646Z
LAST-MODIFIED:20191228T135646Z
UID:945-1589794200-1589798700@clubrireetbienetre33.com
SUMMARY:Yoga du rire – Floirac
DESCRIPTION:LE YOGA DU RIRE OU RIRE SANS RAISON\nUne méthode innovante\, ludique et positive basée sur des exercices faciles de respiration et de rire qui apportent joie de vivre\, favorisent l’humour et diminuent les effets néfastes du stress. \nLes séances sont ouvertes à tous ! Venez nombreux ! \nLa durée des séances est d’1 heure 15\, et elles se déroulent à la Maison des Sports et Culture de Floirac. \nToutes les séances sont à 10.00 Euro.\nCotisation à l’année : 20.00 Euro \nPensez à prévoir une bouteille d’eau 😉
URL:https://clubrireetbienetre33.com/seance/yoga-du-rire-floirac-18-mai-2020/
LOCATION:Maison des Sports et Culture\, 4 avenue Camille Pelletan\, Floirac\, 33270\, France
CATEGORIES:Séance
END:VEVENT
BEGIN:VEVENT
DTSTART;TZID=Europe/Paris:20200528T191500
DTEND;TZID=Europe/Paris:20200528T203000
DTSTAMP:20260423T194659
CREATED:20191226T181604Z
LAST-MODIFIED:20191226T181604Z
UID:915-1590693300-1590697800@clubrireetbienetre33.com
SUMMARY:Yoga du rire – Bordeaux
DESCRIPTION:LE YOGA DU RIRE OU RIRE SANS RAISON\nUne méthode innovante\, ludique et positive basée sur des exercices faciles de respiration et de rire qui apportent joie de vivre\, favorisent l’humour et diminuent les effets néfastes du stress. \nLes séances sont ouvertes à tous ! Venez nombreux ! \nLa durée des séances est d’1 heure 15\, et elles se déroulent à l’Espace Servandoni à Bordeaux. \nToutes les séances sont à 10.00 Euro.\n10 Séances : 85.00 Euro\nCotisation à l’année : 20.00 Euro \nPensez à prévoir une bouteille d’eau 😉
URL:https://clubrireetbienetre33.com/seance/yoga-du-rire-bordeaux-28-mai-2020/
LOCATION:Espace Servandoni Bordeaux\, 41 Rue Servandoni\, Bordeaux\, 33000\, France
CATEGORIES:Séance
END:VEVENT
END:VCALENDAR