BEGIN:VCALENDAR
VERSION:2.0
PRODID:-//L’atelier du rire | Club de Yoga du rire à Bordeaux et en Gironde | Florence Goisset - ECPv6.15.13.1//NONSGML v1.0//EN
CALSCALE:GREGORIAN
METHOD:PUBLISH
X-WR-CALNAME:L’atelier du rire | Club de Yoga du rire à Bordeaux et en Gironde | Florence Goisset
X-ORIGINAL-URL:https://clubrireetbienetre33.com
X-WR-CALDESC:Évènements pour L’atelier du rire | Club de Yoga du rire à Bordeaux et en Gironde | Florence Goisset
REFRESH-INTERVAL;VALUE=DURATION:PT1H
X-Robots-Tag:noindex
X-PUBLISHED-TTL:PT1H
BEGIN:VTIMEZONE
TZID:Europe/Paris
BEGIN:DAYLIGHT
TZOFFSETFROM:+0100
TZOFFSETTO:+0200
TZNAME:CEST
DTSTART:20190331T010000
END:DAYLIGHT
BEGIN:STANDARD
TZOFFSETFROM:+0200
TZOFFSETTO:+0100
TZNAME:CET
DTSTART:20191027T010000
END:STANDARD
BEGIN:DAYLIGHT
TZOFFSETFROM:+0100
TZOFFSETTO:+0200
TZNAME:CEST
DTSTART:20200329T010000
END:DAYLIGHT
BEGIN:STANDARD
TZOFFSETFROM:+0200
TZOFFSETTO:+0100
TZNAME:CET
DTSTART:20201025T010000
END:STANDARD
BEGIN:DAYLIGHT
TZOFFSETFROM:+0100
TZOFFSETTO:+0200
TZNAME:CEST
DTSTART:20210328T010000
END:DAYLIGHT
BEGIN:STANDARD
TZOFFSETFROM:+0200
TZOFFSETTO:+0100
TZNAME:CET
DTSTART:20211031T010000
END:STANDARD
END:VTIMEZONE
BEGIN:VEVENT
DTSTART;TZID=Europe/Paris:20200402T191500
DTEND;TZID=Europe/Paris:20200402T203000
DTSTAMP:20260423T212040
CREATED:20191226T180353Z
LAST-MODIFIED:20191226T180353Z
UID:907-1585854900-1585859400@clubrireetbienetre33.com
SUMMARY:Yoga du rire – Bordeaux
DESCRIPTION:LE YOGA DU RIRE OU RIRE SANS RAISON\nUne méthode innovante\, ludique et positive basée sur des exercices faciles de respiration et de rire qui apportent joie de vivre\, favorisent l’humour et diminuent les effets néfastes du stress. \nLes séances sont ouvertes à tous ! Venez nombreux ! \nLa durée des séances est d’1 heure 15\, et elles se déroulent à l’Espace Servandoni à Bordeaux. \nToutes les séances sont à 10.00 Euro.\n10 Séances : 85.00 Euro\nCotisation à l’année : 20.00 Euro \nPensez à prévoir une bouteille d’eau 😉
URL:https://clubrireetbienetre33.com/seance/yoga-du-rire-bordeaux-2-avril-2020/
LOCATION:Espace Servandoni Bordeaux\, 41 Rue Servandoni\, Bordeaux\, 33000\, France
CATEGORIES:Séance
END:VEVENT
BEGIN:VEVENT
DTSTART;TZID=Europe/Paris:20200406T093000
DTEND;TZID=Europe/Paris:20200406T104500
DTSTAMP:20260423T212040
CREATED:20191228T134737Z
LAST-MODIFIED:20191228T134737Z
UID:939-1586165400-1586169900@clubrireetbienetre33.com
SUMMARY:Yoga du rire – Floirac
DESCRIPTION:LE YOGA DU RIRE OU RIRE SANS RAISON\nUne méthode innovante\, ludique et positive basée sur des exercices faciles de respiration et de rire qui apportent joie de vivre\, favorisent l’humour et diminuent les effets néfastes du stress. \nLes séances sont ouvertes à tous ! Venez nombreux ! \nLa durée des séances est d’1 heure 15\, et elles se déroulent à la Maison des Sports et Culture de Floirac. \nToutes les séances sont à 10.00 Euro.\nCotisation à l’année : 20.00 Euro \nPensez à prévoir une bouteille d’eau 😉
URL:https://clubrireetbienetre33.com/seance/yoga-du-rire-floirac-6-avril-2020/
LOCATION:Maison des Sports et Culture\, 4 avenue Camille Pelletan\, Floirac\, 33270\, France
CATEGORIES:Séance
END:VEVENT
BEGIN:VEVENT
DTSTART;TZID=Europe/Paris:20200407T191500
DTEND;TZID=Europe/Paris:20200407T203000
DTSTAMP:20260423T212040
CREATED:20191226T175959Z
LAST-MODIFIED:20191226T175959Z
UID:905-1586286900-1586291400@clubrireetbienetre33.com
SUMMARY:Yoga du rire – Bordeaux
DESCRIPTION:LE YOGA DU RIRE OU RIRE SANS RAISON\nUne méthode innovante\, ludique et positive basée sur des exercices faciles de respiration et de rire qui apportent joie de vivre\, favorisent l’humour et diminuent les effets néfastes du stress. \nLes séances sont ouvertes à tous ! Venez nombreux ! \nLa durée des séances est d’1 heure 15\, et elles se déroulent à l’Espace Servandoni à Bordeaux. \nToutes les séances sont à 10.00 Euro.\n10 Séances : 85.00 Euro\nCotisation à l’année : 20.00 Euro \nPensez à prévoir une bouteille d’eau 😉
URL:https://clubrireetbienetre33.com/seance/yoga-du-rire-bordeaux-7-avril-2020/
LOCATION:Espace Servandoni Bordeaux\, 41 Rue Servandoni\, Bordeaux\, 33000\, France
CATEGORIES:Séance
END:VEVENT
BEGIN:VEVENT
DTSTART;TZID=Europe/Paris:20200416T193000
DTEND;TZID=Europe/Paris:20200416T203000
DTSTAMP:20260423T212040
CREATED:20200416T172816Z
LAST-MODIFIED:20200416T202557Z
UID:1001-1587065400-1587069000@clubrireetbienetre33.com
SUMMARY:Yoga du rire - En ligne (Zoom)
DESCRIPTION:LE YOGA DU RIRE OU RIRE SANS RAISON\nUne méthode innovante\, ludique et positive basée sur des exercices faciles de respiration et de rire qui apportent joie de vivre\, favorisent l’humour et diminuent les effets néfastes du stress. \nLes séances sont ouvertes à tous ! Venez nombreux ! C’est GRATUIT. \nLa durée de la séance est d’1 heure\, et elle se déroule en ligne sur l’application Zoom. \nLien: https://us02web.zoom.us/j/881820442 \nCliquez sur le lien ou entrez l’ID suivant dans votre client Zoom: 881-820-442 \nVous trouverez des explications detaillées en cliquant ici. \nBonne séance ! \nFlorence
URL:https://clubrireetbienetre33.com/seance/yoga-du-rire-floirac-16-avril-2020/
LOCATION:En ligne (Zoom)
CATEGORIES:Séance en ligne
END:VEVENT
BEGIN:VEVENT
DTSTART;TZID=Europe/Paris:20200418T143000
DTEND;TZID=Europe/Paris:20200418T153000
DTSTAMP:20260423T212040
CREATED:20200416T201654Z
LAST-MODIFIED:20200416T202733Z
UID:1007-1587220200-1587223800@clubrireetbienetre33.com
SUMMARY:Yoga du rire - En ligne (Zoom)
DESCRIPTION:LE YOGA DU RIRE OU RIRE SANS RAISON\nUne méthode innovante\, ludique et positive basée sur des exercices faciles de respiration et de rire qui apportent joie de vivre\, favorisent l’humour et diminuent les effets néfastes du stress. \nLes séances sont ouvertes à tous ! Venez nombreux ! C’est GRATUIT. \nLa durée de la séance est d’1 heure\, et elle se déroule en ligne via vidéo conférence avec l’application Zoom. \nLien: https://us02web.zoom.us/j/228100911 \nCliquez sur le lien ou entrez l’ID suivant dans votre client Zoom: 228-100-911 \nVous trouverez des explications detaillées en cliquant ici. \nBonne séance ! \nFlorence
URL:https://clubrireetbienetre33.com/seance/yoga-du-rire-en-ligne-18-avril-2020/
LOCATION:En ligne (Zoom)
CATEGORIES:Séance en ligne
END:VEVENT
END:VCALENDAR