BEGIN:VCALENDAR
VERSION:2.0
PRODID:-//L’atelier du rire | Club de Yoga du rire à Bordeaux et en Gironde | Florence Goisset - ECPv6.15.13.1//NONSGML v1.0//EN
CALSCALE:GREGORIAN
METHOD:PUBLISH
X-WR-CALNAME:L’atelier du rire | Club de Yoga du rire à Bordeaux et en Gironde | Florence Goisset
X-ORIGINAL-URL:https://clubrireetbienetre33.com
X-WR-CALDESC:Évènements pour L’atelier du rire | Club de Yoga du rire à Bordeaux et en Gironde | Florence Goisset
REFRESH-INTERVAL;VALUE=DURATION:PT1H
X-Robots-Tag:noindex
X-PUBLISHED-TTL:PT1H
BEGIN:VTIMEZONE
TZID:Europe/Paris
BEGIN:DAYLIGHT
TZOFFSETFROM:+0100
TZOFFSETTO:+0200
TZNAME:CEST
DTSTART:20190331T010000
END:DAYLIGHT
BEGIN:STANDARD
TZOFFSETFROM:+0200
TZOFFSETTO:+0100
TZNAME:CET
DTSTART:20191027T010000
END:STANDARD
BEGIN:DAYLIGHT
TZOFFSETFROM:+0100
TZOFFSETTO:+0200
TZNAME:CEST
DTSTART:20200329T010000
END:DAYLIGHT
BEGIN:STANDARD
TZOFFSETFROM:+0200
TZOFFSETTO:+0100
TZNAME:CET
DTSTART:20201025T010000
END:STANDARD
BEGIN:DAYLIGHT
TZOFFSETFROM:+0100
TZOFFSETTO:+0200
TZNAME:CEST
DTSTART:20210328T010000
END:DAYLIGHT
BEGIN:STANDARD
TZOFFSETFROM:+0200
TZOFFSETTO:+0100
TZNAME:CET
DTSTART:20211031T010000
END:STANDARD
END:VTIMEZONE
BEGIN:VEVENT
DTSTART;TZID=Europe/Paris:20200302T093000
DTEND;TZID=Europe/Paris:20200302T104500
DTSTAMP:20260423T224241
CREATED:20191228T133900Z
LAST-MODIFIED:20191228T133900Z
UID:932-1583141400-1583145900@clubrireetbienetre33.com
SUMMARY:Yoga du rire – Floirac
DESCRIPTION:LE YOGA DU RIRE OU RIRE SANS RAISON\nUne méthode innovante\, ludique et positive basée sur des exercices faciles de respiration et de rire qui apportent joie de vivre\, favorisent l’humour et diminuent les effets néfastes du stress. \nLes séances sont ouvertes à tous ! Venez nombreux ! \nLa durée des séances est d’1 heure 15\, et elles se déroulent à la Maison des Sports et Culture de Floirac. \nToutes les séances sont à 10.00 Euro.\nCotisation à l’année : 20.00 Euro \nPensez à prévoir une bouteille d’eau 😉
URL:https://clubrireetbienetre33.com/seance/yoga-du-rire-floirac-2-mars-2020/
LOCATION:Maison des Sports et Culture\, 4 avenue Camille Pelletan\, Floirac\, 33270\, France
CATEGORIES:Séance
END:VEVENT
BEGIN:VEVENT
DTSTART;TZID=Europe/Paris:20200303T191500
DTEND;TZID=Europe/Paris:20200303T203000
DTSTAMP:20260423T224241
CREATED:20191226T175246Z
LAST-MODIFIED:20191226T175246Z
UID:899-1583262900-1583267400@clubrireetbienetre33.com
SUMMARY:Yoga du rire – Bordeaux
DESCRIPTION:LE YOGA DU RIRE OU RIRE SANS RAISON\nUne méthode innovante\, ludique et positive basée sur des exercices faciles de respiration et de rire qui apportent joie de vivre\, favorisent l’humour et diminuent les effets néfastes du stress. \nLes séances sont ouvertes à tous ! Venez nombreux ! \nLa durée des séances est d’1 heure 15\, et elles se déroulent à l’Espace Servandoni à Bordeaux. \nToutes les séances sont à 10.00 Euro.\n10 Séances : 85.00 Euro\nCotisation à l’année : 20.00 Euro \nPensez à prévoir une bouteille d’eau 😉
URL:https://clubrireetbienetre33.com/seance/yoga-du-rire-bordeaux-3-mars-2020/
LOCATION:Espace Servandoni Bordeaux\, 41 Rue Servandoni\, Bordeaux\, 33000\, France
CATEGORIES:Séance
END:VEVENT
BEGIN:VEVENT
DTSTART;TZID=Europe/Paris:20200305T191500
DTEND;TZID=Europe/Paris:20200305T203000
DTSTAMP:20260423T224241
CREATED:20191226T175458Z
LAST-MODIFIED:20191226T175458Z
UID:901-1583435700-1583440200@clubrireetbienetre33.com
SUMMARY:Yoga du rire – Bordeaux
DESCRIPTION:LE YOGA DU RIRE OU RIRE SANS RAISON\nUne méthode innovante\, ludique et positive basée sur des exercices faciles de respiration et de rire qui apportent joie de vivre\, favorisent l’humour et diminuent les effets néfastes du stress. \nLes séances sont ouvertes à tous ! Venez nombreux ! \nLa durée des séances est d’1 heure 15\, et elles se déroulent à l’Espace Servandoni à Bordeaux. \nToutes les séances sont à 10.00 Euro.\n10 Séances : 85.00 Euro\nCotisation à l’année : 20.00 Euro \nPensez à prévoir une bouteille d’eau 😉
URL:https://clubrireetbienetre33.com/seance/yoga-du-rire-bordeaux-5-mars-2020/
LOCATION:Espace Servandoni Bordeaux\, 41 Rue Servandoni\, Bordeaux\, 33000\, France
CATEGORIES:Séance
END:VEVENT
BEGIN:VEVENT
DTSTART;TZID=Europe/Paris:20200316T093000
DTEND;TZID=Europe/Paris:20200316T104500
DTSTAMP:20260423T224241
CREATED:20191228T134215Z
LAST-MODIFIED:20191228T134215Z
UID:934-1584351000-1584355500@clubrireetbienetre33.com
SUMMARY:Yoga du rire – Floirac
DESCRIPTION:LE YOGA DU RIRE OU RIRE SANS RAISON\nUne méthode innovante\, ludique et positive basée sur des exercices faciles de respiration et de rire qui apportent joie de vivre\, favorisent l’humour et diminuent les effets néfastes du stress. \nLes séances sont ouvertes à tous ! Venez nombreux ! \nLa durée des séances est d’1 heure 15\, et elles se déroulent à la Maison des Sports et Culture de Floirac. \nToutes les séances sont à 10.00 Euro.\nCotisation à l’année : 20.00 Euro \nPensez à prévoir une bouteille d’eau 😉
URL:https://clubrireetbienetre33.com/seance/yoga-du-rire-floirac-16-mars-2020/
LOCATION:Maison des Sports et Culture\, 4 avenue Camille Pelletan\, Floirac\, 33270\, France
CATEGORIES:Séance
END:VEVENT
BEGIN:VEVENT
DTSTART;TZID=Europe/Paris:20200318T150000
DTEND;TZID=Europe/Paris:20200318T163000
DTSTAMP:20260423T224241
CREATED:20200127T204919Z
LAST-MODIFIED:20200127T204919Z
UID:966-1584543600-1584549000@clubrireetbienetre33.com
SUMMARY:Les Fous Rires de Bordeaux
DESCRIPTION:  \nJe ferai le Mercredi 18 Mars une séance aux Fous Rires de Bordeaux à l’Espace Saint Rémi au 4 rue Jouannet\, 33000 Bordeaux.\n  \nMa séance de yoga du rire se déroulera de 15h à 16H30.\n  \nJ’invite les familles\, parents et enfants à me rejoindre pour une belle séance de rire.\n  \nRéservation :\nContactez Xavier à l’adresse suivant xavier@lesfousriresdebordeaux.fr\n  \nVenez nombreux ! ?
URL:https://clubrireetbienetre33.com/seance/les-fous-rires-de-bordeaux/
LOCATION:Espace Saint Rémi\, 4 rue Jouannet\, Bordeaux\, 33000\, France
END:VEVENT
BEGIN:VEVENT
DTSTART;TZID=Europe/Paris:20200319T191500
DTEND;TZID=Europe/Paris:20200319T203000
DTSTAMP:20260423T224241
CREATED:20191226T175704Z
LAST-MODIFIED:20191226T175704Z
UID:903-1584645300-1584649800@clubrireetbienetre33.com
SUMMARY:Yoga du rire – Bordeaux
DESCRIPTION:LE YOGA DU RIRE OU RIRE SANS RAISON\nUne méthode innovante\, ludique et positive basée sur des exercices faciles de respiration et de rire qui apportent joie de vivre\, favorisent l’humour et diminuent les effets néfastes du stress. \nLes séances sont ouvertes à tous ! Venez nombreux ! \nLa durée des séances est d’1 heure 15\, et elles se déroulent à l’Espace Servandoni à Bordeaux. \nToutes les séances sont à 10.00 Euro.\n10 Séances : 85.00 Euro\nCotisation à l’année : 20.00 Euro \nPensez à prévoir une bouteille d’eau 😉
URL:https://clubrireetbienetre33.com/seance/yoga-du-rire-bordeaux-19-mars-2020/
LOCATION:Espace Servandoni Bordeaux\, 41 Rue Servandoni\, Bordeaux\, 33000\, France
CATEGORIES:Séance
END:VEVENT
BEGIN:VEVENT
DTSTART;TZID=Europe/Paris:20200330T093000
DTEND;TZID=Europe/Paris:20200330T104500
DTSTAMP:20260423T224241
CREATED:20191228T134532Z
LAST-MODIFIED:20191228T134532Z
UID:937-1585560600-1585565100@clubrireetbienetre33.com
SUMMARY:Yoga du rire – Floirac
DESCRIPTION:LE YOGA DU RIRE OU RIRE SANS RAISON\nUne méthode innovante\, ludique et positive basée sur des exercices faciles de respiration et de rire qui apportent joie de vivre\, favorisent l’humour et diminuent les effets néfastes du stress. \nLes séances sont ouvertes à tous ! Venez nombreux ! \nLa durée des séances est d’1 heure 15\, et elles se déroulent à la Maison des Sports et Culture de Floirac. \nToutes les séances sont à 10.00 Euro.\nCotisation à l’année : 20.00 Euro \nPensez à prévoir une bouteille d’eau 😉
URL:https://clubrireetbienetre33.com/seance/yoga-du-rire-floirac-30-mars-2020/
LOCATION:Maison des Sports et Culture\, 4 avenue Camille Pelletan\, Floirac\, 33270\, France
CATEGORIES:Séance
END:VEVENT
END:VCALENDAR