BEGIN:VCALENDAR
VERSION:2.0
PRODID:-//L’atelier du rire | Club de Yoga du rire à Bordeaux et en Gironde | Florence Goisset - ECPv6.15.13.1//NONSGML v1.0//EN
CALSCALE:GREGORIAN
METHOD:PUBLISH
X-WR-CALNAME:L’atelier du rire | Club de Yoga du rire à Bordeaux et en Gironde | Florence Goisset
X-ORIGINAL-URL:https://clubrireetbienetre33.com
X-WR-CALDESC:Évènements pour L’atelier du rire | Club de Yoga du rire à Bordeaux et en Gironde | Florence Goisset
REFRESH-INTERVAL;VALUE=DURATION:PT1H
X-Robots-Tag:noindex
X-PUBLISHED-TTL:PT1H
BEGIN:VTIMEZONE
TZID:Europe/Paris
BEGIN:DAYLIGHT
TZOFFSETFROM:+0100
TZOFFSETTO:+0200
TZNAME:CEST
DTSTART:20220327T010000
END:DAYLIGHT
BEGIN:STANDARD
TZOFFSETFROM:+0200
TZOFFSETTO:+0100
TZNAME:CET
DTSTART:20221030T010000
END:STANDARD
BEGIN:DAYLIGHT
TZOFFSETFROM:+0100
TZOFFSETTO:+0200
TZNAME:CEST
DTSTART:20230326T010000
END:DAYLIGHT
BEGIN:STANDARD
TZOFFSETFROM:+0200
TZOFFSETTO:+0100
TZNAME:CET
DTSTART:20231029T010000
END:STANDARD
BEGIN:DAYLIGHT
TZOFFSETFROM:+0100
TZOFFSETTO:+0200
TZNAME:CEST
DTSTART:20240331T010000
END:DAYLIGHT
BEGIN:STANDARD
TZOFFSETFROM:+0200
TZOFFSETTO:+0100
TZNAME:CET
DTSTART:20241027T010000
END:STANDARD
END:VTIMEZONE
BEGIN:VEVENT
DTSTART;TZID=Europe/Paris:20230307T190000
DTEND;TZID=Europe/Paris:20230307T203000
DTSTAMP:20260419T145352
CREATED:20221219T101321Z
LAST-MODIFIED:20221219T101321Z
UID:1860-1678215600-1678221000@clubrireetbienetre33.com
SUMMARY:Séance de Yoga du rire le 7 Mars 2023
DESCRIPTION:Lien pour inscription : \nhttps://www.helloasso.com/associations/l-atelier-du-rire/evenements/atelier-du-rire-bordeaux-le-7-mars-2023 \n  \nLe yoga du rire est un programme d’exercices pour la santé et le bien être. C’est une combinaison d’exercice de rire avec des techniques de respiration. Le Yoga du rire est à la fois préventif et thérapeutique. Il libère des endorphines qui sont des hormones du bonheur. \n 
URL:https://clubrireetbienetre33.com/seance/seance-de-yoga-du-rire-le-7-mars-2023/
LOCATION:Espace Servandoni Bordeaux\, 41 Rue Servandoni\, Bordeaux\, 33000\, France
END:VEVENT
END:VCALENDAR