BEGIN:VCALENDAR
VERSION:2.0
PRODID:-//L’atelier du rire | Club de Yoga du rire à Bordeaux et en Gironde | Florence Goisset - ECPv6.15.13.1//NONSGML v1.0//EN
CALSCALE:GREGORIAN
METHOD:PUBLISH
X-ORIGINAL-URL:https://clubrireetbienetre33.com
X-WR-CALDESC:Évènements pour L’atelier du rire | Club de Yoga du rire à Bordeaux et en Gironde | Florence Goisset
REFRESH-INTERVAL;VALUE=DURATION:PT1H
X-Robots-Tag:noindex
X-PUBLISHED-TTL:PT1H
BEGIN:VTIMEZONE
TZID:Europe/Paris
BEGIN:DAYLIGHT
TZOFFSETFROM:+0100
TZOFFSETTO:+0200
TZNAME:CEST
DTSTART:20210328T010000
END:DAYLIGHT
BEGIN:STANDARD
TZOFFSETFROM:+0200
TZOFFSETTO:+0100
TZNAME:CET
DTSTART:20211031T010000
END:STANDARD
BEGIN:DAYLIGHT
TZOFFSETFROM:+0100
TZOFFSETTO:+0200
TZNAME:CEST
DTSTART:20220327T010000
END:DAYLIGHT
BEGIN:STANDARD
TZOFFSETFROM:+0200
TZOFFSETTO:+0100
TZNAME:CET
DTSTART:20221030T010000
END:STANDARD
BEGIN:DAYLIGHT
TZOFFSETFROM:+0100
TZOFFSETTO:+0200
TZNAME:CEST
DTSTART:20230326T010000
END:DAYLIGHT
BEGIN:STANDARD
TZOFFSETFROM:+0200
TZOFFSETTO:+0100
TZNAME:CET
DTSTART:20231029T010000
END:STANDARD
END:VTIMEZONE
BEGIN:VEVENT
DTSTART;TZID=Europe/Paris:20220222T190000
DTEND;TZID=Europe/Paris:20220222T203000
DTSTAMP:20260424T154641
CREATED:20211209T150050Z
LAST-MODIFIED:20220121T144117Z
UID:1493-1645556400-1645561800@clubrireetbienetre33.com
SUMMARY:SEANCE DE YOGA DU RIRE/BORDEAUX
DESCRIPTION:LE RIRE\, C’EST UNE POUSSIÈRE DE JOIE QUI FAIT ÉTERNUER LE COEUR.😊🙏 \n  \nLien pour vous inscrire : \nhttps://www.helloasso.com/associations/l-atelier-du-rire/evenements/atelier-du-rire-bordeaux-le-22-fevrier-2022
URL:https://clubrireetbienetre33.com/seance/seance-de-yoga-du-rire-bordeaux-4/
END:VEVENT
END:VCALENDAR