BEGIN:VCALENDAR
VERSION:2.0
PRODID:-//L’atelier du rire | Club de Yoga du rire à Bordeaux et en Gironde | Florence Goisset - ECPv6.15.13.1//NONSGML v1.0//EN
CALSCALE:GREGORIAN
METHOD:PUBLISH
X-ORIGINAL-URL:https://clubrireetbienetre33.com
X-WR-CALDESC:Évènements pour L’atelier du rire | Club de Yoga du rire à Bordeaux et en Gironde | Florence Goisset
REFRESH-INTERVAL;VALUE=DURATION:PT1H
X-Robots-Tag:noindex
X-PUBLISHED-TTL:PT1H
BEGIN:VTIMEZONE
TZID:Europe/Paris
BEGIN:DAYLIGHT
TZOFFSETFROM:+0100
TZOFFSETTO:+0200
TZNAME:CEST
DTSTART:20210328T010000
END:DAYLIGHT
BEGIN:STANDARD
TZOFFSETFROM:+0200
TZOFFSETTO:+0100
TZNAME:CET
DTSTART:20211031T010000
END:STANDARD
BEGIN:DAYLIGHT
TZOFFSETFROM:+0100
TZOFFSETTO:+0200
TZNAME:CEST
DTSTART:20220327T010000
END:DAYLIGHT
BEGIN:STANDARD
TZOFFSETFROM:+0200
TZOFFSETTO:+0100
TZNAME:CET
DTSTART:20221030T010000
END:STANDARD
BEGIN:DAYLIGHT
TZOFFSETFROM:+0100
TZOFFSETTO:+0200
TZNAME:CEST
DTSTART:20230326T010000
END:DAYLIGHT
BEGIN:STANDARD
TZOFFSETFROM:+0200
TZOFFSETTO:+0100
TZNAME:CET
DTSTART:20231029T010000
END:STANDARD
END:VTIMEZONE
BEGIN:VEVENT
DTSTART;TZID=Europe/Paris:20220208T190000
DTEND;TZID=Europe/Paris:20220208T203000
DTSTAMP:20260424T121437
CREATED:20211209T145830Z
LAST-MODIFIED:20220121T142426Z
UID:1491-1644346800-1644352200@clubrireetbienetre33.com
SUMMARY:SEANCE DE YOGA DU RIRE /BORDEAUX
DESCRIPTION:SOURIT MÊME SI TON SOURIRE EST TRISTE CAR IL N’Y A RIEN DE PLUS TRISTE DE NE PAS TE VOIR SOURIRE.😊🙏 \n  \nLien pour vous inscrire \nhttps://www.helloasso.com/associations/l-atelier-du-rire/evenements/atelier-du-rire-bordeaux-le-8-fevrier-2022
URL:https://clubrireetbienetre33.com/seance/seance-de-yoga-du-rire-bordeaux-3/
END:VEVENT
END:VCALENDAR