BEGIN:VCALENDAR
VERSION:2.0
PRODID:-//L’atelier du rire | Club de Yoga du rire à Bordeaux et en Gironde | Florence Goisset - ECPv6.15.13.1//NONSGML v1.0//EN
CALSCALE:GREGORIAN
METHOD:PUBLISH
X-ORIGINAL-URL:https://clubrireetbienetre33.com
X-WR-CALDESC:Évènements pour L’atelier du rire | Club de Yoga du rire à Bordeaux et en Gironde | Florence Goisset
REFRESH-INTERVAL;VALUE=DURATION:PT1H
X-Robots-Tag:noindex
X-PUBLISHED-TTL:PT1H
BEGIN:VTIMEZONE
TZID:Europe/Paris
BEGIN:DAYLIGHT
TZOFFSETFROM:+0100
TZOFFSETTO:+0200
TZNAME:CEST
DTSTART:20200329T010000
END:DAYLIGHT
BEGIN:STANDARD
TZOFFSETFROM:+0200
TZOFFSETTO:+0100
TZNAME:CET
DTSTART:20201025T010000
END:STANDARD
BEGIN:DAYLIGHT
TZOFFSETFROM:+0100
TZOFFSETTO:+0200
TZNAME:CEST
DTSTART:20210328T010000
END:DAYLIGHT
BEGIN:STANDARD
TZOFFSETFROM:+0200
TZOFFSETTO:+0100
TZNAME:CET
DTSTART:20211031T010000
END:STANDARD
BEGIN:DAYLIGHT
TZOFFSETFROM:+0100
TZOFFSETTO:+0200
TZNAME:CEST
DTSTART:20220327T010000
END:DAYLIGHT
BEGIN:STANDARD
TZOFFSETFROM:+0200
TZOFFSETTO:+0100
TZNAME:CET
DTSTART:20221030T010000
END:STANDARD
END:VTIMEZONE
BEGIN:VEVENT
DTSTART;TZID=Europe/Paris:20211214T183000
DTEND;TZID=Europe/Paris:20211214T200000
DTSTAMP:20260422T190414
CREATED:20211119T135123Z
LAST-MODIFIED:20211119T135123Z
UID:1477-1639506600-1639512000@clubrireetbienetre33.com
SUMMARY:SEANCE DE YOGA DU RIRE /SANTE / CARBON BLANC
DESCRIPTION:AVERTISSEMENT : L’USAGE RÉGULIER D’UN SOURIRE PEUT ÊTRE TRES BENEFIQUE POUR LA SANTE \nABUSEZ-EN \nLIEN POUR VOUS INSCRIRE A LA SEANCE DU 14 DECEMBRE SUR CARBON BLANC \nhttps://www.helloasso.com/associations/l-atelier-du-rire/evenements/seance-de-yoga-du-rire-carbon-blanc-du-mardi-14-decembre-2021
URL:https://clubrireetbienetre33.com/seance/seance-de-yoga-du-rire-sante-carbon-blanc/
LOCATION:CENTRE MIEUX ETRE LILAYA 7 AVENUE ANDRE VIGNEAU ANGLADE 33560 CARBON BLANC\, 7 AVENUE ANDRE VIGNEAU\, CARBON BLANC\, 33560\, France
END:VEVENT
END:VCALENDAR