BEGIN:VCALENDAR
VERSION:2.0
PRODID:-//L’atelier du rire | Club de Yoga du rire à Bordeaux et en Gironde | Florence Goisset - ECPv6.15.13.1//NONSGML v1.0//EN
CALSCALE:GREGORIAN
METHOD:PUBLISH
X-WR-CALNAME:L’atelier du rire | Club de Yoga du rire à Bordeaux et en Gironde | Florence Goisset
X-ORIGINAL-URL:https://clubrireetbienetre33.com
X-WR-CALDESC:Évènements pour L’atelier du rire | Club de Yoga du rire à Bordeaux et en Gironde | Florence Goisset
REFRESH-INTERVAL;VALUE=DURATION:PT1H
X-Robots-Tag:noindex
X-PUBLISHED-TTL:PT1H
BEGIN:VTIMEZONE
TZID:Europe/Paris
BEGIN:DAYLIGHT
TZOFFSETFROM:+0100
TZOFFSETTO:+0200
TZNAME:CEST
DTSTART:20190331T010000
END:DAYLIGHT
BEGIN:STANDARD
TZOFFSETFROM:+0200
TZOFFSETTO:+0100
TZNAME:CET
DTSTART:20191027T010000
END:STANDARD
BEGIN:DAYLIGHT
TZOFFSETFROM:+0100
TZOFFSETTO:+0200
TZNAME:CEST
DTSTART:20200329T010000
END:DAYLIGHT
BEGIN:STANDARD
TZOFFSETFROM:+0200
TZOFFSETTO:+0100
TZNAME:CET
DTSTART:20201025T010000
END:STANDARD
BEGIN:DAYLIGHT
TZOFFSETFROM:+0100
TZOFFSETTO:+0200
TZNAME:CEST
DTSTART:20210328T010000
END:DAYLIGHT
BEGIN:STANDARD
TZOFFSETFROM:+0200
TZOFFSETTO:+0100
TZNAME:CET
DTSTART:20211031T010000
END:STANDARD
END:VTIMEZONE
BEGIN:VEVENT
DTSTART;TZID=Europe/Paris:20200318T150000
DTEND;TZID=Europe/Paris:20200318T163000
DTSTAMP:20260424T001313
CREATED:20200127T204919Z
LAST-MODIFIED:20200127T204919Z
UID:966-1584543600-1584549000@clubrireetbienetre33.com
SUMMARY:Les Fous Rires de Bordeaux
DESCRIPTION:  \nJe ferai le Mercredi 18 Mars une séance aux Fous Rires de Bordeaux à l’Espace Saint Rémi au 4 rue Jouannet\, 33000 Bordeaux.\n  \nMa séance de yoga du rire se déroulera de 15h à 16H30.\n  \nJ’invite les familles\, parents et enfants à me rejoindre pour une belle séance de rire.\n  \nRéservation :\nContactez Xavier à l’adresse suivant xavier@lesfousriresdebordeaux.fr\n  \nVenez nombreux ! ?
URL:https://clubrireetbienetre33.com/seance/les-fous-rires-de-bordeaux/
LOCATION:Espace Saint Rémi\, 4 rue Jouannet\, Bordeaux\, 33000\, France
END:VEVENT
END:VCALENDAR