BEGIN:VCALENDAR
VERSION:2.0
PRODID:-//L’atelier du rire | Club de Yoga du rire à Bordeaux et en Gironde | Florence Goisset - ECPv6.15.13.1//NONSGML v1.0//EN
CALSCALE:GREGORIAN
METHOD:PUBLISH
X-ORIGINAL-URL:https://clubrireetbienetre33.com
X-WR-CALDESC:Évènements pour L’atelier du rire | Club de Yoga du rire à Bordeaux et en Gironde | Florence Goisset
REFRESH-INTERVAL;VALUE=DURATION:PT1H
X-Robots-Tag:noindex
X-PUBLISHED-TTL:PT1H
BEGIN:VTIMEZONE
TZID:Europe/Paris
BEGIN:DAYLIGHT
TZOFFSETFROM:+0100
TZOFFSETTO:+0200
TZNAME:CEST
DTSTART:20180325T010000
END:DAYLIGHT
BEGIN:STANDARD
TZOFFSETFROM:+0200
TZOFFSETTO:+0100
TZNAME:CET
DTSTART:20181028T010000
END:STANDARD
BEGIN:DAYLIGHT
TZOFFSETFROM:+0100
TZOFFSETTO:+0200
TZNAME:CEST
DTSTART:20190331T010000
END:DAYLIGHT
BEGIN:STANDARD
TZOFFSETFROM:+0200
TZOFFSETTO:+0100
TZNAME:CET
DTSTART:20191027T010000
END:STANDARD
BEGIN:DAYLIGHT
TZOFFSETFROM:+0100
TZOFFSETTO:+0200
TZNAME:CEST
DTSTART:20200329T010000
END:DAYLIGHT
BEGIN:STANDARD
TZOFFSETFROM:+0200
TZOFFSETTO:+0100
TZNAME:CET
DTSTART:20201025T010000
END:STANDARD
END:VTIMEZONE
BEGIN:VEVENT
DTSTART;TZID=Europe/Paris:20191211T150000
DTEND;TZID=Europe/Paris:20191211T170000
DTSTAMP:20260424T043546
CREATED:20191114T112432Z
LAST-MODIFIED:20191114T112432Z
UID:849-1576076400-1576083600@clubrireetbienetre33.com
SUMMARY:Yoga du rire Enfants – Bordeaux
DESCRIPTION:LE YOGA DU RIRE OU RIRE SANS RAISON\n  \n \n  \nUne méthode innovante\, ludique et positive basée sur des exercices faciles de respiration et de rire qui apportent joie de vivre\, favorisent l’humour et diminuent les effets néfastes du stress. \nLe rire est aussi important pour les enfants que pour les adultes. Au cours d’une journée\, les enfants rient plusieurs fois et leurs parents\, grands enfants rient en moyenne moins de 20 fois par jour. Par leur participation commune à des jeux du rire\, enfants et adultes apprendront à se détendre ensemble\, à augmenter leur complicité réciproque. \nLa durée des ateliers est d’1 heure\, et ils se déroulent à l’Espace Servandoni à Bordeaux. \nIl y a deux ateliers tous les mercredi : \n\nPour les enfants de 4 à 6 ans\, de 15h à 16h\nPour les enfants de 7 à 9 ans\, de 16h à 17h\n\nLes ateliers sont à 5.00 Euro par enfant. \nInscription via le formulaire de contact ici. \nPensez à prévoir une bouteille d’eau 😉
URL:https://clubrireetbienetre33.com/seance/yoga-du-rire-enfants-bordeaux-11-decembre-2019/
LOCATION:Espace Servandoni Bordeaux\, 41 Rue Servandoni\, Bordeaux\, 33000\, France
CATEGORIES:Séance enfants
END:VEVENT
END:VCALENDAR