BEGIN:VCALENDAR
VERSION:2.0
PRODID:-//L’atelier du rire | Club de Yoga du rire à Bordeaux et en Gironde | Florence Goisset - ECPv6.15.13.1//NONSGML v1.0//EN
CALSCALE:GREGORIAN
METHOD:PUBLISH
X-WR-CALNAME:L’atelier du rire | Club de Yoga du rire à Bordeaux et en Gironde | Florence Goisset
X-ORIGINAL-URL:https://clubrireetbienetre33.com
X-WR-CALDESC:Évènements pour L’atelier du rire | Club de Yoga du rire à Bordeaux et en Gironde | Florence Goisset
REFRESH-INTERVAL;VALUE=DURATION:PT1H
X-Robots-Tag:noindex
X-PUBLISHED-TTL:PT1H
BEGIN:VTIMEZONE
TZID:Europe/Paris
BEGIN:DAYLIGHT
TZOFFSETFROM:+0100
TZOFFSETTO:+0200
TZNAME:CEST
DTSTART:20180325T010000
END:DAYLIGHT
BEGIN:STANDARD
TZOFFSETFROM:+0200
TZOFFSETTO:+0100
TZNAME:CET
DTSTART:20181028T010000
END:STANDARD
BEGIN:DAYLIGHT
TZOFFSETFROM:+0100
TZOFFSETTO:+0200
TZNAME:CEST
DTSTART:20190331T010000
END:DAYLIGHT
BEGIN:STANDARD
TZOFFSETFROM:+0200
TZOFFSETTO:+0100
TZNAME:CET
DTSTART:20191027T010000
END:STANDARD
BEGIN:DAYLIGHT
TZOFFSETFROM:+0100
TZOFFSETTO:+0200
TZNAME:CEST
DTSTART:20200329T010000
END:DAYLIGHT
BEGIN:STANDARD
TZOFFSETFROM:+0200
TZOFFSETTO:+0100
TZNAME:CET
DTSTART:20201025T010000
END:STANDARD
END:VTIMEZONE
BEGIN:VEVENT
DTSTART;TZID=Europe/Paris:20191005T093000
DTEND;TZID=Europe/Paris:20191006T180000
DTSTAMP:20260424T073929
CREATED:20190921T090320Z
LAST-MODIFIED:20190928T142542Z
UID:713-1570267800-1570384800@clubrireetbienetre33.com
SUMMARY:Formation Animatrice-teur - Bordeaux
DESCRIPTION:DEVENEZ ANIMATRICE-TEUR agréé DE Yoga du rire – Module 2 jours\nFaites l’expérience d’une approche novatrice de la gestion du stress et du bien-être grâce au rire. \nDécouvrez les outils pour réveiller le positif\, la vitalité et augmenter sa capacité à être de bonne humeur. \nA l’issue des 2 jours\, les participants sont autonomes et peuvent dispenser la méthode à leur tour : ils reçoivent un certificat qui leur permet d’exercer légalement le Yoga du rire (et d’ouvrir un club de rire). \nNotre certificat est valable partout dans le monde et bénéficie d’une double reconnaissance inédite\, celle du Docteur Madan Kataria et de l’Institut Français du Yoga du rire& du rire -Santé. \n  \nEXTRAIT DU PROGRAMME OFFICIEL : 2 JOURS\n–          Historique et esprit du yoga du rire \n–          Pourquoi rire est bon ; les bienfaits physiques\, émotionnels et psychologiques \n–          Comment rire davantage : apprentissage des exercices thérapeutiques du Dr Kataria et les nouveautés de l’année \n–          Comment mieux intérioriser les effets du rire (respiration améliorée\, initiation à la relaxation et à la méditation du rire) \n–          Techniques ludiques de lâcher prise immédiat\, d’évacuation des tensions\, de centrage \n–          Exercices d’auto entraînement pour augmenter sa bonne humeur et sa capacité à être joyeux. Comment favoriser son aptitude positive \n–          Prise en charge du groupe et attitude de l’animateur \n–          Réussir une intervention face à différents publics \n–          Comment bien débuter\, animer et créer une séance \n–          Comment démarrer une activité ou un club de rire\, les bases pour se lancer \n–          Accès au réseau et comment figurer parmi les intervenants experts \n  \nPOUR QUI\nC’est ouvert à tous et accessible à titre personnel ou professionnel. Toutes personnes désireuses de : \n–          S’orienter vers une activité de bien-être\, d’ouvrir un club de rire \n–          De motiver des groupes\, renforcer son charisme \n–          De renforcer le positif\, de développer sa bonne humeur\, d’augmenter sa joie de vivre et de s’approprier les bienfaits du rire \n–          D’augmenter assurément son aptitude au bonheur. \nCette formation s’adresse également aux thérapeutes de la santé\, (médecins\, infirmiers(ieres)\, educateurs\, responsables d’équipe\, formateurs\, employés et chefs d’entreprise\, intervenants en ressources humaines\, prof de yoga et sophrologues. \n  \nINTERVENANTS\nFlorence GOISSET\, professeur de Yoga du rire\, formée à l’école Internationale du rire de Paris depuis 2011 \, elle a continué à se former avec Fabrice LOIZEAU Master Professeur formateur International de Yoga du rire. \nSon expérience depuis 2011 dans le domaine du rire n’a fait qu’évoluer\, elle anime des séances dans les entreprises\, maison de retraite\, avec les étudiants en médecine et droit. \n  \nUn manuel spécifique de la formation sera remis à chaque participants. Des listes d’exercices détaillés sur le rire\, un accès gratuit à des journées d’actualisation\, d’échanges. Une inscription sur la liste officielle du Docteur Madan KATARIA sur le Site de Fabrice LOIZEAU. De l’aide publicitaire\, fourniture d’éléments de communication. \nLe tarif de la formation est de 250.00 Euros pour les 2 jours hors repas. \nUn acompte de 30% est demandé pour la réservation. \nL’adresse pour l’acompte : L’ATELIER DU RIRE \, 26 RUE CONDILLAC 33000 BORDEAUX. \n  \nPour tous renseignements contactez-moi : \nFlorence GOISSET – 06 07 72 42 33\nProfesseur de Yoga du rire \nInscriptions sur HelloAsso en cliquant ici. \n 
URL:https://clubrireetbienetre33.com/seance/yoga-du-rire-formation-animatrices-5-6-octobre-2019/
LOCATION:Chez Wigi\, 26 rue Condillac\, Bordeaux\, 33000\, France
CATEGORIES:Formation
ATTACH;FMTTYPE=image/jpeg:https://clubrireetbienetre33.com/wp-content/uploads/2019/09/formation-yoga-du-rire-bordeaux.jpg
END:VEVENT
END:VCALENDAR